BEGIN:VCALENDAR
VERSION:2.0
PRODID:-//Compassionate DFW - ECPv6.15.18//NONSGML v1.0//EN
CALSCALE:GREGORIAN
METHOD:PUBLISH
X-WR-CALNAME:Compassionate DFW
X-ORIGINAL-URL:https://www.compassionatedfw.org
X-WR-CALDESC:Events for Compassionate DFW
REFRESH-INTERVAL;VALUE=DURATION:PT1H
X-Robots-Tag:noindex
X-PUBLISHED-TTL:PT1H
BEGIN:VTIMEZONE
TZID:UTC
BEGIN:STANDARD
TZOFFSETFROM:+0000
TZOFFSETTO:+0000
TZNAME:UTC
DTSTART:20150101T000000
END:STANDARD
END:VTIMEZONE
BEGIN:VEVENT
DTSTART;TZID=UTC:20170924T143000
DTEND;TZID=UTC:20170924T145000
DTSTAMP:20260424T004448
CREATED:20170831T091847Z
LAST-MODIFIED:20170914T194153Z
UID:13469-1506263400-1506264600@www.compassionatedfw.org
SUMMARY:Standing Silence
DESCRIPTION:Compassionate DFW is asking individuals and groups to take the 20 minutes of complete silence where they are at the time and meditate on being a welcoming metroplex\, a safe place to live\, grow\, thrive\, and prosper. \nPlease let us know via email after you have completed this activity and we will gladly report total numbers on the Global Map.
URL:https://www.compassionatedfw.org/event/standing-silence/
CATEGORIES:Community,Compassion Games,Spiritual
ATTACH;FMTTYPE=image/jpeg:https://www.compassionatedfw.org/wp-content/uploads/2017/08/standing_silence_dallas_2017.jpg
ORGANIZER;CN="Compassionate DFW":MAILTO:info@compassionatedfw.org
END:VEVENT
BEGIN:VEVENT
DTSTART;TZID=UTC:20161219T110000
DTEND;TZID=UTC:20161219T123000
DTSTAMP:20260424T004448
CREATED:20161210T023608Z
LAST-MODIFIED:20161210T023608Z
UID:12815-1482145200-1482150600@www.compassionatedfw.org
SUMMARY:Winter Festival of Faiths
DESCRIPTION:A variety of interfaith groups showcase their religious and winter holiday sentiments through dance\, traditional singing\, music and much more. The purpose of this multi-cultural celebration is to educate and enrich understanding of many faith traditions that celebrate the onset of winter with a religious and cultural expression of joy in the season. \n  \nFeaturing: \n\nAztlan Dance Group\nCSLDallas\, A Center for Spiritual Living\nDallas Baha’i Center\nDFW Sikh Youth Bhangra\nHoly Trinity Hellenic Dancers\nIsmaili Muslim Youth Choir of Dallas\nNorthway Christian Church Music Ministry\nTemple Emanu-El\nThe Dallas Indian Mission UMC\nThe Korean Traditional Music Association of Texas\nVedic Chants
URL:https://www.compassionatedfw.org/event/winter-festival-of-faiths/
LOCATION:Thanks-Giving Square\, 1627 Pacific Ave.\, Dallas\, TX\, 75201\, United States
CATEGORIES:Spiritual
ORGANIZER;CN="Thanks-Giving Square":MAILTO:tgs@thanksgiving.org
END:VEVENT
BEGIN:VEVENT
DTSTART;TZID=UTC:20160505T120000
DTEND;TZID=UTC:20160505T130000
DTSTAMP:20260424T004448
CREATED:20160505T013525Z
LAST-MODIFIED:20160505T013534Z
UID:12177-1462449600-1462453200@www.compassionatedfw.org
SUMMARY:National Day of Prayer - Richardson Interfaith Alliance
DESCRIPTION:Join us by the fountains outside of Richardson City Hall. Prayers will be offered in the Jewish\, Christian\, Buddhist\, Muslim\, Hindu\, and Baha’i faith traditions.
URL:https://www.compassionatedfw.org/event/national-day-prayer-richardson-interfaith-alliance/
LOCATION:Richardson City Hall\, 411 W. Arapaho Rd.\, Richardson\, TX\, 75083\, United States
CATEGORIES:Spiritual
ORGANIZER;CN="Richardson Interfaith Alliance":MAILTO: shanwells@verizon.net
END:VEVENT
BEGIN:VEVENT
DTSTART;TZID=UTC:20160505T113000
DTEND;TZID=UTC:20160505T140000
DTSTAMP:20260424T004448
CREATED:20160505T013910Z
LAST-MODIFIED:20160505T013910Z
UID:12180-1462447800-1462456800@www.compassionatedfw.org
SUMMARY:National Day of Prayer - Thanks-Giving Square
DESCRIPTION:35th Annual National Day of Prayer Luncheon\nThursday\, May 5\, 2016\n“Building Peace in the Face of Extremism”\n\nJanessa Gans Wilder\nFounder\, Euphrates Institute (more information)\n\n11:30 Registration and Buffet\n12:00 p.m. Program\n\nEdison’s\n1724 Cockrell\, Dallas\, TX 75215 (more information)\n\nClick here to buy tickets or donate\nContinuing the tradition of assembling civic\, community\, religious\, nonprofit\, governmental\, and business leaders in celebration of unity around the power of gratitude and inclusive prayer for all faiths in America.
URL:https://www.compassionatedfw.org/event/national-day-prayer-thanks-giving-square/
LOCATION:Thanks-Giving Square\, 1627 Pacific Ave.\, Dallas\, TX\, 75201\, United States
CATEGORIES:Spiritual
ORGANIZER;CN="Thanks-Giving Square":MAILTO:tgs@thanksgiving.org
END:VEVENT
END:VCALENDAR