BEGIN:VCALENDAR
VERSION:2.0
PRODID:-//Compassionate DFW - ECPv6.15.18//NONSGML v1.0//EN
CALSCALE:GREGORIAN
METHOD:PUBLISH
X-ORIGINAL-URL:https://www.compassionatedfw.org
X-WR-CALDESC:Events for Compassionate DFW
REFRESH-INTERVAL;VALUE=DURATION:PT1H
X-Robots-Tag:noindex
X-PUBLISHED-TTL:PT1H
BEGIN:VTIMEZONE
TZID:America/Chicago
BEGIN:DAYLIGHT
TZOFFSETFROM:-0600
TZOFFSETTO:-0500
TZNAME:CDT
DTSTART:20220313T080000
END:DAYLIGHT
BEGIN:STANDARD
TZOFFSETFROM:-0500
TZOFFSETTO:-0600
TZNAME:CST
DTSTART:20221106T070000
END:STANDARD
BEGIN:DAYLIGHT
TZOFFSETFROM:-0600
TZOFFSETTO:-0500
TZNAME:CDT
DTSTART:20230312T080000
END:DAYLIGHT
BEGIN:STANDARD
TZOFFSETFROM:-0500
TZOFFSETTO:-0600
TZNAME:CST
DTSTART:20231105T070000
END:STANDARD
BEGIN:DAYLIGHT
TZOFFSETFROM:-0600
TZOFFSETTO:-0500
TZNAME:CDT
DTSTART:20240310T080000
END:DAYLIGHT
BEGIN:STANDARD
TZOFFSETFROM:-0500
TZOFFSETTO:-0600
TZNAME:CST
DTSTART:20241103T070000
END:STANDARD
END:VTIMEZONE
BEGIN:VTIMEZONE
TZID:America/New_York
BEGIN:DAYLIGHT
TZOFFSETFROM:-0500
TZOFFSETTO:-0400
TZNAME:EDT
DTSTART:20210314T070000
END:DAYLIGHT
BEGIN:STANDARD
TZOFFSETFROM:-0400
TZOFFSETTO:-0500
TZNAME:EST
DTSTART:20211107T060000
END:STANDARD
BEGIN:DAYLIGHT
TZOFFSETFROM:-0500
TZOFFSETTO:-0400
TZNAME:EDT
DTSTART:20220313T070000
END:DAYLIGHT
BEGIN:STANDARD
TZOFFSETFROM:-0400
TZOFFSETTO:-0500
TZNAME:EST
DTSTART:20221106T060000
END:STANDARD
BEGIN:DAYLIGHT
TZOFFSETFROM:-0500
TZOFFSETTO:-0400
TZNAME:EDT
DTSTART:20230312T070000
END:DAYLIGHT
BEGIN:STANDARD
TZOFFSETFROM:-0400
TZOFFSETTO:-0500
TZNAME:EST
DTSTART:20231105T060000
END:STANDARD
END:VTIMEZONE
BEGIN:VTIMEZONE
TZID:UTC
BEGIN:STANDARD
TZOFFSETFROM:+0000
TZOFFSETTO:+0000
TZNAME:UTC
DTSTART:20170101T000000
END:STANDARD
END:VTIMEZONE
BEGIN:VTIMEZONE
TZID:UTC
BEGIN:STANDARD
TZOFFSETFROM:+0000
TZOFFSETTO:+0000
TZNAME:UTC
DTSTART:20160101T000000
END:STANDARD
END:VTIMEZONE
BEGIN:VEVENT
DTSTART;TZID=America/Chicago:20231001T120000
DTEND;TZID=America/Chicago:20231001T170000
DTSTAMP:20260423T190946
CREATED:20230721T233612Z
LAST-MODIFIED:20230831T035622Z
UID:14464-1696161600-1696179600@www.compassionatedfw.org
SUMMARY:Feeding Children Everywhere 2023
DESCRIPTION:  \nCome join us for Feeding Children Everywhere on Sunday\, October 1 at EPIC with our partners – Richardson Interfaith Alliance and East Plano Islamic Center (EPIC) to package 100\,000 meals at 38.25 cents per meal. Help us raise $38\,250 to reach our goal. Meals packaged will be Lentil Jambalaya. ALL monies go for meals and all meals go to local food banks and pantries\, such as Richardson Network of Community Ministries. \n  \nGoal: 100\,000 meals ($.3825/per meal) – We need your help to reach the goal ($38\,250).  All donations for Feeding Children Everywhere go for meals and all meals go to local food banks and pantries. \n  \nJoin us in the fight against hunger at this fun volunteer opportunity! \n \nVolunteer \n\n \n \n\n  \nThank you for your support!  \n  \n \n  \nhttps://www.feedingchildreneverywhere.com/
URL:https://www.compassionatedfw.org/event/feeding-children-everywhere-2023/
LOCATION:EPIC\, 4700 14th Street\, Plano\, TX\, 75074\, United States
CATEGORIES:Community,Compassion Games,Social Services
ATTACH;FMTTYPE=image/png:https://www.compassionatedfw.org/wp-content/uploads/2023/07/us-hunger-logo-stacked-1.png
ORGANIZER;CN="Compassionate DFW":MAILTO:info@compassionatedfw.org
END:VEVENT
BEGIN:VEVENT
DTSTART;TZID=America/New_York:20220911T120000
DTEND;TZID=America/New_York:20220911T170000
DTSTAMP:20260423T190946
CREATED:20220121T022712Z
LAST-MODIFIED:20220121T022755Z
UID:14412-1662897600-1662915600@www.compassionatedfw.org
SUMMARY:Feeding Children Everywhere 2022
DESCRIPTION:Feeding Children Everywhere event scheduled for September 11\, 2022. \nMore Details Here at Later Date \n 
URL:https://www.compassionatedfw.org/event/feeding-children-everywhere-2022/
LOCATION:TX
CATEGORIES:Community,Compassion Games
ATTACH;FMTTYPE=image/jpeg:https://www.compassionatedfw.org/wp-content/uploads/2021/08/Children-scaled.jpeg
ORGANIZER;CN="Compassionate DFW":MAILTO:info@compassionatedfw.org
END:VEVENT
BEGIN:VEVENT
DTSTART;TZID=UTC:20180921T113000
DTEND;TZID=UTC:20180921T113000
DTSTAMP:20260423T190946
CREATED:20180904T051733Z
LAST-MODIFIED:20180904T055051Z
UID:14058-1537529400-1537529400@www.compassionatedfw.org
SUMMARY:2018 Compassion Walk
DESCRIPTION:International Day of Peace is on Friday\, September 21. On this day\, Compassionate DFW\, Thanks-Giving Square\, and the Crow Collection of Asian Art will gather the community to promote peace in our cities. \nThe silent\, meditative Compassion Walk also marks the closing day of the Compassion Games and will include remarks by DFW leaders and interfaith community leaders. \n11:30 REMARKS AT KLYDEWARREN PARK\, PEARL LAWN \n12:00 BEGIN WALK TO THANKS-GIVING SQUARE\, REMARKS \nENDS PROMPTLY AT 1:00 PM. \n(Gather and proceed from Pearl Lawn west to Akard\, then south onAkard to Ervay\, continue Ervay to Thanks-Giving Square. Observe all safety regulations and stop lights/signs at intersections.) \n  \nClick here to learn more about the 2018 Compassion Games! \n  \nDo you want to participate with your organization or a group of friends? Download and share this PDF flier! 
URL:https://www.compassionatedfw.org/event/2018-compassion-walk/
LOCATION:Klyde Warren Park\, 2012 Woodall Rodgers Freeway\, Suite 403\, Dallas\, TX\, 75201\, United States
CATEGORIES:Community,Compassion Games
ATTACH;FMTTYPE=image/png:https://www.compassionatedfw.org/wp-content/uploads/2018/09/Copy-of-Compassion-Walk2017.png
ORGANIZER;CN="Compassionate DFW":MAILTO:info@compassionatedfw.org
END:VEVENT
BEGIN:VEVENT
DTSTART;TZID=UTC:20180920T180000
DTEND;TZID=UTC:20180920T180000
DTSTAMP:20260423T190946
CREATED:20180908T215216Z
LAST-MODIFIED:20180908T215216Z
UID:14075-1537466400-1537466400@www.compassionatedfw.org
SUMMARY:Knitting for the Needy
DESCRIPTION:Helping to Celebrate the Compassion Games\nDetails:  \n\nThis event is sponsored by the Richardson Interfaith Alliance and is in connection with the Compassion Games. \nItems can be knitted\, crocheted\, sewn\, or created in any way that produces a warm item. \nHat and scarves are to be made in adults\, teens\, children\, and infant sizes. \nOur goal is to collect 200 sets (a hat and scarf). \nItems will be donated to groups helping the homeless or needy in the DFW area.\nItems can be dropped by St. Barnabas before September 20th. \n\n\nOn September 20th at 6PM St. Barnabas will be hosting a gathering to celebrate the work of many hands helping others. There will be a selection of yummy stews for dinner and a special guest speaker from The Stewpot in Dallas. Bring your finished items\, and an appetite as we celebrate our accomplishments!  \n\nQuestions? Contact: \n\nAngela Reese: reeseangela@hotmail.com \nConoly Barker: conolyb@att.net
URL:https://www.compassionatedfw.org/event/knitting-for-the-needy-2018/
LOCATION:TX
CATEGORIES:Community,Compassion Games,Social Services
ATTACH;FMTTYPE=image/png:https://www.compassionatedfw.org/wp-content/uploads/2018/09/Knitting-for-the-Needy.png
ORGANIZER;CN="Compassionate DFW":MAILTO:info@compassionatedfw.org
END:VEVENT
BEGIN:VEVENT
DTSTART;TZID=UTC:20180909T120000
DTEND;TZID=UTC:20180909T170000
DTSTAMP:20260423T190946
CREATED:20180903T222916Z
LAST-MODIFIED:20180904T051642Z
UID:14051-1536494400-1536512400@www.compassionatedfw.org
SUMMARY:Richardson - Feeding Children Everywhere 2018
DESCRIPTION:Compassionate DFW and Feeding Children Everywhere are teaming up to hand package 100\,000 healthy meals for hungry families! You can make a tangible impact by choosing to donate and sign up to package meals! \nWe are 80% funded! \nPlease help us reach our goal of 100\,000 meals ($25\,000). \nClick here to donate!
URL:https://www.compassionatedfw.org/event/richardson-feeding-children-everywhere-2018/
LOCATION:Richardson Civic Center\, 411 W. Arapaho Rd. \, Richardson\, TX\, 75080\, United States
CATEGORIES:Compassion Games
ATTACH;FMTTYPE=image/jpeg:https://www.compassionatedfw.org/wp-content/uploads/2016/04/ezthumb.jpg
ORGANIZER;CN="Compassionate DFW":MAILTO:info@compassionatedfw.org
END:VEVENT
BEGIN:VEVENT
DTSTART;TZID=UTC:20170924T143000
DTEND;TZID=UTC:20170924T145000
DTSTAMP:20260423T190946
CREATED:20170831T091847Z
LAST-MODIFIED:20170914T194153Z
UID:13469-1506263400-1506264600@www.compassionatedfw.org
SUMMARY:Standing Silence
DESCRIPTION:Compassionate DFW is asking individuals and groups to take the 20 minutes of complete silence where they are at the time and meditate on being a welcoming metroplex\, a safe place to live\, grow\, thrive\, and prosper. \nPlease let us know via email after you have completed this activity and we will gladly report total numbers on the Global Map.
URL:https://www.compassionatedfw.org/event/standing-silence/
LOCATION:TX
CATEGORIES:Community,Compassion Games,Spiritual
ATTACH;FMTTYPE=image/jpeg:https://www.compassionatedfw.org/wp-content/uploads/2017/08/standing_silence_dallas_2017.jpg
ORGANIZER;CN="Compassionate DFW":MAILTO:info@compassionatedfw.org
END:VEVENT
BEGIN:VEVENT
DTSTART;TZID=UTC:20170923T100000
DTEND;TZID=UTC:20170923T120000
DTSTAMP:20260423T190946
CREATED:20170922T202110Z
LAST-MODIFIED:20170922T202110Z
UID:13525-1506160800-1506168000@www.compassionatedfw.org
SUMMARY:Realizing Essence through Compassion with David Breaux
DESCRIPTION:The Crow Collection\, Compassionate DFW\, and the Compassion Council of the Dallas Arts District present David H. Breaux in dialogue in The Crow galleries.\nPlease join us for an exploration of how to create more compassion in the world and in ourselves! Join us for a talk and Q&A with David Breaux on realizing essence through compassion. Breaux will share a few words on pure compassion\, the recognition of true self\, and the sharing of wisdom and will be followed by Q&A. The themes he will touch on include the body-mind nature\, suffering\, spirit\, identification with false thoughts and beliefs\, and how to alleviate suffering.  \nMore information: http://crowcollection.org/ai1ec_event/realizing-essence-through-compassion/?instance_id=94989
URL:https://www.compassionatedfw.org/event/realizing-essence-compassion-david-breaux/
LOCATION:Crow Collection of Asian Art\, 2010 Flora St.\, Dallas\, TX\, 75201\, United States
CATEGORIES:Compassion Games,Workshops
ATTACH;FMTTYPE=image/jpeg:https://www.compassionatedfw.org/wp-content/uploads/2017/09/David-Breaux.jpg
END:VEVENT
BEGIN:VEVENT
DTSTART;TZID=UTC:20170921T113000
DTEND;TZID=UTC:20170921T130000
DTSTAMP:20260423T190946
CREATED:20170809T221701Z
LAST-MODIFIED:20170809T222008Z
UID:13419-1505993400-1505998800@www.compassionatedfw.org
SUMMARY:2017 Compassion Walk
DESCRIPTION:Join us for the annual Compassion Walk. This silent\, meditative experience unites civic leaders\, residents of the greater DFW community\, and various organizations to join together on the International Day of Peace to reflect on our society’s past\, present\, and peaceful future.  \nThe Compassion Walk will start at Klyde Warren Park and conclude at Thanks-Giving Square.  \nFor questions\, please contact Danny Skinner at dskinner@crowcollection.org.  \n  \nClick here to learn more about the 2017 Compassion Games! 
URL:https://www.compassionatedfw.org/event/2017-compassion-walk/
LOCATION:Klyde Warren Park\, 2012 Woodall Rodgers Freeway\, Suite 403\, Dallas\, TX\, 75201\, United States
CATEGORIES:Community,Compassion Games
ATTACH;FMTTYPE=image/jpeg:https://www.compassionatedfw.org/wp-content/uploads/2017/08/Compassion-Walk2017.jpg
ORGANIZER;CN="Compassionate DFW":MAILTO:info@compassionatedfw.org
END:VEVENT
BEGIN:VEVENT
DTSTART;TZID=UTC:20170916T110000
DTEND;TZID=UTC:20170916T123000
DTSTAMP:20260423T190946
CREATED:20170831T085227Z
LAST-MODIFIED:20170831T085227Z
UID:13461-1505559600-1505565000@www.compassionatedfw.org
SUMMARY:Bottle Bricks Project
DESCRIPTION:Come and learn from Ron Bemis about the science behind crafting bottle bricks and work as a community towards building our very own Compassion Bench.  \nPlease contact Ron at rbemis@gmail.com with any questions. 
URL:https://www.compassionatedfw.org/event/bottle-bricks-project/
LOCATION:Saint Barnabas Presbyterian Church\, 1220 W. Belt Line Road\, Richardson\, TX\, 75080\, United States
CATEGORIES:Compassion Games,Environment
ATTACH;FMTTYPE=image/jpeg:https://www.compassionatedfw.org/wp-content/uploads/2017/08/bottle_bricks_project_2017.jpg
ORGANIZER;CN="Compassionate DFW":MAILTO:info@compassionatedfw.org
END:VEVENT
BEGIN:VEVENT
DTSTART;TZID=UTC:20170915T180000
DTEND;TZID=UTC:20170916T000000
DTSTAMP:20260423T190946
CREATED:20170831T094122Z
LAST-MODIFIED:20170913T204725Z
UID:13475-1505498400-1505520000@www.compassionatedfw.org
SUMMARY:After Dark: Heroes and Heroines
DESCRIPTION:Long before there was Wonder Woman\, Batman\, Spiderman\, or the Hulk\, there was Jizo\, Benzaiten\, Ebisu\, Lady Tokiwa\, and Lady Murasaki. \nStop by the Crow Collection of Asian Art and learn all about the famous heroes and heroines from Japan that can be seen in our newest exhibition\, Styled with Poise: Figures in Japanese Paintings and Prints. \nCome early and watch a Japanese woodblock printmaking demonstration by artist Kazuko Goto\, and make your own prints using a secret ingredient. Then stay late for a screening of Miss Hokusai\, the untold story of O-Ei\, daughter of the Japanese painter Hokusai\, known for his 36 Views of Mount Fuji series\, including The Great Wave Off Kanagawa\, the most-reproduced Japanese artwork in history. \n  \nFor more information\, please visit: http://crowcollection.org/ai1ec_event/after-dark-heroes-and-heroines/?instance_id= 
URL:https://www.compassionatedfw.org/event/dark-heroes-heroines/
LOCATION:Crow Collection of Asian Art\, 2010 Flora St.\, Dallas\, TX\, 75201\, United States
CATEGORIES:Arts,Compassion Games
END:VEVENT
BEGIN:VEVENT
DTSTART;TZID=UTC:20170914T183000
DTEND;TZID=UTC:20170914T203000
DTSTAMP:20260423T190946
CREATED:20170809T220943Z
LAST-MODIFIED:20170905T173419Z
UID:13411-1505413800-1505421000@www.compassionatedfw.org
SUMMARY:Compassion Games Knitting Project
DESCRIPTION:Come join us as we knit scarves and hats for adults and hats for newborns! \nFor questions\, please contact Angela Reese at reeseangela@hotmail.com. \nClick here to learn more about the 2017 Compassion Games! 
URL:https://www.compassionatedfw.org/event/knitting-project/
LOCATION:TX
CATEGORIES:Community,Compassion Games,Social Services
ATTACH;FMTTYPE=image/jpeg:https://www.compassionatedfw.org/wp-content/uploads/2017/08/Knitting-Project.jpg
ORGANIZER;CN="Compassionate DFW":MAILTO:info@compassionatedfw.org
END:VEVENT
BEGIN:VEVENT
DTSTART;TZID=UTC:20170910T120000
DTEND;TZID=UTC:20170910T170000
DTSTAMP:20260423T190946
CREATED:20170627T002701Z
LAST-MODIFIED:20170809T222124Z
UID:13028-1505044800-1505062800@www.compassionatedfw.org
SUMMARY:Compassionate Richardson Hunger Project
DESCRIPTION:Join us for the 3rd annual fight against hunger as we assemble 100\,000 healthy meals for hungry children around the world. \nClick here to learn more about the 2017 Compassion Games! 
URL:https://www.compassionatedfw.org/event/compassionate-richardson-hunger-project/
LOCATION:Richardson Civic Center\, 411 W. Arapaho Rd. \, Richardson\, TX\, 75080\, United States
CATEGORIES:Compassion Games,FCE
ATTACH;FMTTYPE=image/jpeg:https://www.compassionatedfw.org/wp-content/uploads/2017/06/photo-e1498602909520.jpg
END:VEVENT
BEGIN:VEVENT
DTSTART;TZID=UTC:20170909T100000
DTEND;TZID=UTC:20170909T120000
DTSTAMP:20260423T190946
CREATED:20170831T093153Z
LAST-MODIFIED:20170905T165303Z
UID:13472-1504951200-1504958400@www.compassionatedfw.org
SUMMARY:Breathe: Veterans Art and Wellness Workshop
DESCRIPTION:In its second year\, the Breathe program at the Crow Collection of Asian Art invites local veterans to take part in five free weekend workshops. The galleries and works of art at the Crow Collection provide a tranquil environment for reflection and discovery. During these workshops\, participants will be introduced to the calming and strengthening effects of Qigong and encouraged to express themselves through art observation\, writing\, and art-making.
URL:https://www.compassionatedfw.org/event/breathe-veterans-art-wellness-workshop/
LOCATION:Crow Collection of Asian Art\, 2010 Flora St.\, Dallas\, TX\, 75201\, United States
CATEGORIES:Arts,Compassion Games
ATTACH;FMTTYPE=image/jpeg:https://www.compassionatedfw.org/wp-content/uploads/2017/08/breathe_veterans_wellness_program.jpg
END:VEVENT
BEGIN:VEVENT
DTSTART;TZID=UTC:20170902T100000
DTEND;TZID=UTC:20170902T140000
DTSTAMP:20260423T190946
CREATED:20170831T091035Z
LAST-MODIFIED:20170831T091035Z
UID:13466-1504346400-1504360800@www.compassionatedfw.org
SUMMARY:Adventure Asia: A Day in Edo
DESCRIPTION:For more details\, please check in with the Crow Collection of Asian Art through this link: http://crowcollection.org/activities/adventure-asia-day-edo/ 
URL:https://www.compassionatedfw.org/event/adventure-asia-day-edo/
LOCATION:Crow Collection of Asian Art\, 2010 Flora St.\, Dallas\, TX\, 75201\, United States
CATEGORIES:Arts,Compassion Games
ATTACH;FMTTYPE=image/jpeg:https://www.compassionatedfw.org/wp-content/uploads/2017/08/Adventure_Asia_A_Day_In_Edo_2017.jpg
END:VEVENT
END:VCALENDAR