BEGIN:VCALENDAR
VERSION:2.0
PRODID:-//Compassionate DFW - ECPv6.15.18//NONSGML v1.0//EN
CALSCALE:GREGORIAN
METHOD:PUBLISH
X-ORIGINAL-URL:https://www.compassionatedfw.org
X-WR-CALDESC:Events for Compassionate DFW
REFRESH-INTERVAL;VALUE=DURATION:PT1H
X-Robots-Tag:noindex
X-PUBLISHED-TTL:PT1H
BEGIN:VTIMEZONE
TZID:UTC
BEGIN:STANDARD
TZOFFSETFROM:+0000
TZOFFSETTO:+0000
TZNAME:UTC
DTSTART:20150101T000000
END:STANDARD
END:VTIMEZONE
BEGIN:VEVENT
DTSTART;TZID=UTC:20170921T113000
DTEND;TZID=UTC:20170921T130000
DTSTAMP:20260423T205133
CREATED:20170809T221701Z
LAST-MODIFIED:20170809T222008Z
UID:13419-1505993400-1505998800@www.compassionatedfw.org
SUMMARY:2017 Compassion Walk
DESCRIPTION:Join us for the annual Compassion Walk. This silent\, meditative experience unites civic leaders\, residents of the greater DFW community\, and various organizations to join together on the International Day of Peace to reflect on our society’s past\, present\, and peaceful future.  \nThe Compassion Walk will start at Klyde Warren Park and conclude at Thanks-Giving Square.  \nFor questions\, please contact Danny Skinner at dskinner@crowcollection.org.  \n  \nClick here to learn more about the 2017 Compassion Games! 
URL:https://www.compassionatedfw.org/event/2017-compassion-walk/
LOCATION:Klyde Warren Park\, 2012 Woodall Rodgers Freeway\, Suite 403\, Dallas\, TX\, 75201\, United States
CATEGORIES:Community,Compassion Games
ATTACH;FMTTYPE=image/jpeg:https://www.compassionatedfw.org/wp-content/uploads/2017/08/Compassion-Walk2017.jpg
ORGANIZER;CN="Compassionate DFW":MAILTO:info@compassionatedfw.org
END:VEVENT
BEGIN:VEVENT
DTSTART;TZID=UTC:20170914T183000
DTEND;TZID=UTC:20170914T203000
DTSTAMP:20260423T205133
CREATED:20170809T220943Z
LAST-MODIFIED:20170905T173419Z
UID:13411-1505413800-1505421000@www.compassionatedfw.org
SUMMARY:Compassion Games Knitting Project
DESCRIPTION:Come join us as we knit scarves and hats for adults and hats for newborns! \nFor questions\, please contact Angela Reese at reeseangela@hotmail.com. \nClick here to learn more about the 2017 Compassion Games! 
URL:https://www.compassionatedfw.org/event/knitting-project/
LOCATION:TX
CATEGORIES:Community,Compassion Games,Social Services
ATTACH;FMTTYPE=image/jpeg:https://www.compassionatedfw.org/wp-content/uploads/2017/08/Knitting-Project.jpg
ORGANIZER;CN="Compassionate DFW":MAILTO:info@compassionatedfw.org
END:VEVENT
BEGIN:VEVENT
DTSTART;VALUE=DATE:20170725
DTEND;VALUE=DATE:20170726
DTSTAMP:20260423T205133
CREATED:20170725T232950Z
LAST-MODIFIED:20170726T005029Z
UID:13114-1500940800-1501027199@www.compassionatedfw.org
SUMMARY:#NTXGivingDay
DESCRIPTION:North Texas Giving Day is Communities Foundation of Texas’ annual 18-hour online giving extravaganza for North Texas nonprofits that is powered by creative nonprofits\, social media activism\, area wide collaboration\, and of course you! \nNorth Texas Giving Day’s goal is to help build awareness and support for nonprofits in the North Texas region. \nSince 2009\, Communities Foundation of Texas’ North Texas Giving Day has pumped more than $156 million\, for over 2\,500 local nonprofits\, into the North Texas Community. In 2016\, $37 million was raised through more than 142\,000 gifts benefiting 2\,518 nonprofits.
URL:https://www.compassionatedfw.org/event/ntxgivingday/
LOCATION:TX
CATEGORIES:Community
ATTACH;FMTTYPE=image/jpeg:https://www.compassionatedfw.org/wp-content/uploads/2017/07/NTGD-2017-Rectangle-Logo.jpg
END:VEVENT
BEGIN:VEVENT
DTSTART;TZID=UTC:20170408T113000
DTEND;TZID=UTC:20170408T133000
DTSTAMP:20260423T205133
CREATED:20170309T000053Z
LAST-MODIFIED:20170309T000053Z
UID:12919-1491651000-1491658200@www.compassionatedfw.org
SUMMARY:Luncheon with Dr. James Doty - Into the Magic Shop
DESCRIPTION:Dr. James R. Doty is a clinical professor in the Department of Neurosurgery at Stanford University\, and the Director of the Center for Compassion and Altruism Research and Education\, of which the Dalai Lama was the founding benefactor.\nJoin the Crow Collection of Asian Art and board members of Compassionate DFW for a lunch time lecture and Q & A with Dr. Doty. As the Director of CCARE\, Dr. Doty has spearheaded many research projects on compassion and altruism\, and their relationship to the brain. \nIn his memoir\, Into the Magic Shop\, Dr. Doty uses his personal experience and cutting-edge science to reveal how we can change our lives and the lives of our children by changing our brains and our hearts. Wrap box lunches are available for pre-order for $12. Online ticket sales and box lunch pre-order ends Monday\, April 3 at midnight. \n$20 for Friends of the Crow Collection\, $30 for the Public $12 for Wrap Box Lunch \nRegister at: http://crowcollection.org/ai1ec_event/luncheon-with-dr-james-doty/?instance_id=
URL:https://www.compassionatedfw.org/event/luncheon-dr-james-doty-magic-shop/
LOCATION:Crow Collection of Asian Art\, 2010 Flora St.\, Dallas\, TX\, 75201\, United States
CATEGORIES:Community,Science & Research
ATTACH;FMTTYPE=image/jpeg:https://www.compassionatedfw.org/wp-content/uploads/2017/03/viewImage.jpg
ORGANIZER;CN="Compassionate DFW":MAILTO:info@compassionatedfw.org
END:VEVENT
BEGIN:VEVENT
DTSTART;TZID=UTC:20170226T120000
DTEND;TZID=UTC:20170226T180000
DTSTAMP:20260423T205133
CREATED:20170210T040533Z
LAST-MODIFIED:20170210T040547Z
UID:12881-1488110400-1488132000@www.compassionatedfw.org
SUMMARY:Special Event | Compassion Now | Session #3
DESCRIPTION:The Crow Collection of Asian Art opens its doors for contemplative reflection. Sundays in February\, join us anytime between noon and 6:00 PM.  This is not a guided meditation class but rather the opportunity to take some time out of your day to sit\, to be still\, to be quiet. Meditation mats are provided. \nAll are welcome in this space.
URL:https://www.compassionatedfw.org/event/special-event-compassion-now-session-3/
LOCATION:Crow Collection of Asian Art\, 2010 Flora St.\, Dallas\, TX\, 75201\, United States
CATEGORIES:Community
ATTACH;FMTTYPE=image/jpeg:https://www.compassionatedfw.org/wp-content/uploads/2017/02/WEB_TS1_6057.jpg
END:VEVENT
BEGIN:VEVENT
DTSTART;TZID=UTC:20170219T120000
DTEND;TZID=UTC:20170219T180000
DTSTAMP:20260423T205133
CREATED:20170210T040414Z
LAST-MODIFIED:20170210T040414Z
UID:12879-1487505600-1487527200@www.compassionatedfw.org
SUMMARY:Special Event | Compassion Now | Session #2
DESCRIPTION:The Crow Collection of Asian Art opens its doors for contemplative reflection. Sundays in February\, join us anytime between noon and 6:00 PM.  This is not a guided meditation class but rather the opportunity to take some time out of your day to sit\, to be still\, to be quiet. Meditation mats are provided. \nAll are welcome in this space.
URL:https://www.compassionatedfw.org/event/special-event-compassion-now-session-2/
LOCATION:Crow Collection of Asian Art\, 2010 Flora St.\, Dallas\, TX\, 75201\, United States
CATEGORIES:Community
ATTACH;FMTTYPE=image/jpeg:https://www.compassionatedfw.org/wp-content/uploads/2017/02/WEB_TS1_6057.jpg
END:VEVENT
BEGIN:VEVENT
DTSTART;TZID=UTC:20170212T120000
DTEND;TZID=UTC:20170212T180000
DTSTAMP:20260423T205133
CREATED:20170210T040226Z
LAST-MODIFIED:20170210T040257Z
UID:12873-1486900800-1486922400@www.compassionatedfw.org
SUMMARY:Special Event | Compassion Now | Session #1
DESCRIPTION:The Crow Collection of Asian Art opens its doors for contemplative reflection. Sundays in February\, join us anytime between noon and 6:00 PM.  This is not a guided meditation class but rather the opportunity to take some time out of your day to sit\, to be still\, to be quiet. Meditation mats are provided. \nAll are welcome in this space.
URL:https://www.compassionatedfw.org/event/special-event-compassion-now/
LOCATION:Crow Collection of Asian Art\, 2010 Flora St.\, Dallas\, TX\, 75201\, United States
CATEGORIES:Community
ATTACH;FMTTYPE=image/jpeg:https://www.compassionatedfw.org/wp-content/uploads/2017/02/WEB_TS1_6057.jpg
END:VEVENT
BEGIN:VEVENT
DTSTART;TZID=UTC:20161119T090000
DTEND;TZID=UTC:20161119T153000
DTSTAMP:20260423T205133
CREATED:20161108T215556Z
LAST-MODIFIED:20161108T221512Z
UID:12794-1479546000-1479569400@www.compassionatedfw.org
SUMMARY:DFW Community Hunger Project
DESCRIPTION:DFW and Feeding Children Everywhere are partnering together to package 50\,000 healthy meals for hungry children all around the US. There will be great music\, good fun and a volunteer experience like no other! \nRegister: https://iam.feedingchildreneverywhere.com/dallas/events/dfw-community-hunger-project/e100287 \nDonate: https://iam.feedingchildreneverywhere.com/checkout/donation?eid=100287
URL:https://www.compassionatedfw.org/event/dfw-community-hunger-project-2/
LOCATION:St. Philips School\, 1600 Pennsylvania Ave.\, Dallas\, TX\, 75215\, United States
CATEGORIES:Community
ATTACH;FMTTYPE=image/jpeg:https://www.compassionatedfw.org/wp-content/uploads/2016/04/ezthumb.jpg
ORGANIZER;CN="Feeding Children Everywhere":MAILTO:https://www.feedingchildreneverywhere.com/events/dfw-community-hunger-project/
END:VEVENT
BEGIN:VEVENT
DTSTART;TZID=UTC:20161114T190000
DTEND;TZID=UTC:20161114T210000
DTSTAMP:20260423T205133
CREATED:20161108T221357Z
LAST-MODIFIED:20161108T221357Z
UID:12797-1479150000-1479157200@www.compassionatedfw.org
SUMMARY:In Search of Justice: Mexican American History Is American History
DESCRIPTION:Our final program for 2016 will add another dimension of our general theme for 2016\, “Owning Violence: Affirming Nonviolence.” Dr. Roberto Calderón\, an expert on Texas-Mexican history\, will bring our focus to the Texas Mexican population. \nAs we have learned about the lived experience of African Americans\, American Indians\, and Muslims in our society\, this presentation will deepen our understanding of the experience of Mexicans as a perceived “other.” We will continue to try to take an unflinching look at ourselves in relation to those who are different from us. Together\, from the perspective of our respective cultures and faith traditions\, we will reflect on the varied forms of violence in relation to the Mexican population – overt and subtle – and how we can with greater clarity and consistency truly be people of nonviolence. \nDr. Roberto Calderón is Associate Professor of History\, University of North Texas. His primary academic interest is in American Mexican history and he has a deep understanding of the history of Mexicans in Texas. \nMore about Dr. Calderón is available by clicking on this link:\nhttp://events.r20.constantcontact.com/register/event?llr=ffaqd8cab&oeidk=a07ede5x4nf80282d0b
URL:https://www.compassionatedfw.org/event/in-search-of-justice-mexican-american-history-is-american-history/
LOCATION:Northaven United Methodist Church\, 11211 Preston Road\, Dallas\, TX\, 75230\, United States
CATEGORIES:Community
ATTACH;FMTTYPE=image/jpeg:https://www.compassionatedfw.org/wp-content/uploads/2016/04/image09-300x145.jpg
ORGANIZER;CN="The 2nd Community":MAILTO:the2ndcommunity@northaven.org
END:VEVENT
END:VCALENDAR